Workbook
Name _Hlk110324861: 様式第1号!$B$11

Sheet 様式第1号
B1: 様式第１号（第５条関係） | S1: 介護・高齢
A3: 福祉施設等物価高騰対策支援金交付申請書兼請求書
R5: 年 | T5: 月 | V5: 日
B6: 兵庫県太子町長 様
J7: 法人所在地
J8: 法人名
J9: 代表者氏名
C11: 太子町福祉施設等物価高騰対策支援金交付要綱第５条の規定により、関係
C12: 書類を添えて申請します。
L14: 記
B16: 1 | C16: 支援金請求額 | L16: 金 | M16: =様式第2号!N16 -> 0 | T16: 円 | X16: ※自動入力されます。
D18: 【添付書類】
E19: 福祉施設等内訳表（様式第２号）
E20: 誓約書（様式第３号）
E21: 運営規定の写し等（定員がわかるもの） | P21: ※複合、訪問は除く
B23: 2 | C23: 振込口座
B24: □前回申請時と変更なし
B25: □新規の申請又は、前回申請時と変更あり（下記に記入）
B26: 金融機関名 | K26: 支店名 | T26: 預金種別
H27: 銀行 | Q27: 支店 支所 | T27: １ 普 通
H28: 信用金庫 | T28: ２ 当 座
H29: 農協 | T29: ３ その他
B30: 口座番号 | I30: フリガナ
I31: 口座名義
I34: 【申請内容に関する連絡先】
I35: 発行責任者氏名
J36: 連絡先(電話番号)
I37: 担当者氏名
J38: 連絡先(電話番号)
I39: e-mail

Sheet 様式第2号
B1: 様式第2号（第５条関係）
C2: 福祉施設等内訳表 | E2: 介護・高齢
I3: 法人名 | J3: =様式第1号!M8 -> 0
B5: NO | C5: 施設等種別 | D5: 福祉施設等の名称 | E5: 所在地 | G5: 定員 | H5: 区分 | N5: 支援金 請求額
I6: 入所 （区分1） | J6: 通所 （区分2） | K6: その他 （区分5） | L6: 複合 （区分3） | M6: 訪問 （区分4）
H7: =IFERROR(VLOOKUP(C7,リスト!$A$2:$B$19,2,FALSE),"") | I7: =IF($H7=1,IF($G7="","",IF($G7<=20,150000,IF(AND($G7>=21,$G7<=35),300000,IF(AND($G7>=36,$G7<=50),450000,IF(AND($G7>=51,$G7<=65),600000,IF(AND($G7>66,$G7<=80),750000,IF($G7>=81,900000,""))))))),"") | J7: =IF($H7=2,IF($G7="","",IF($G7<=20,100000,IF(AND($G7>=21,$G7<=35),150000,IF(AND($G7>=36,$G7<=50),200000,IF(AND($G7>=51,$G7<=65),250000,IF(AND($G7>66,$G7<=80),300000,IF($G7>=81,350000,""))))))),"") | K7: =IF($H7=5,IF($G7="","",IF($G7<=20,150000,IF(AND($G7>=21,$G7<=35),200000,IF(AND($G7>=36,$G7<=50),250000,IF(AND($G7>=51,$G7<=65),300000,IF(AND($G7>66,$G7<=80),350000,IF($G7>=81,400000,""))))))),"") | L7: =IF($H7=3,100000,"") | M7: =IF($H7=4,100000,"") | N7: =SUM(I7:M7) -> 0
H8: =IFERROR(VLOOKUP(C8,リスト!$A$2:$B$19,2,FALSE),"") | I8: =IF($H8=1,IF($G8="","",IF($G8<=20,150000,IF(AND($G8>=21,$G8<=35),300000,IF(AND($G8>=36,$G8<=50),450000,IF(AND($G8>=51,$G8<=65),600000,IF(AND($G8>66,$G8<=80),750000,IF($G8>=81,900000,""))))))),"") | J8: =IF($H8=2,IF($G8="","",IF($G8<=20,100000,IF(AND($G8>=21,$G8<=35),150000,IF(AND($G8>=36,$G8<=50),200000,IF(AND($G8>=51,$G8<=65),250000,IF(AND($G8>66,$G8<=80),300000,IF($G8>=81,350000,""))))))),"") | K8: =IF($H8=5,IF($G8="","",IF($G8<=20,150000,IF(AND($G8>=21,$G8<=35),200000,IF(AND($G8>=36,$G8<=50),250000,IF(AND($G8>=51,$G8<=65),300000,IF(AND($G8>66,$G8<=80),350000,IF($G8>=81,400000,""))))))),"") | L8: =IF($H8=3,100000,"") | M8: =IF($H8=4,100000,"") | N8: =SUM(I8:M8) -> 0
H9: =IFERROR(VLOOKUP(C9,リスト!$A$2:$B$19,2,FALSE),"") | I9: =IF($H9=1,IF($G9="","",IF($G9<=20,150000,IF(AND($G9>=21,$G9<=35),300000,IF(AND($G9>=36,$G9<=50),450000,IF(AND($G9>=51,$G9<=65),600000,IF(AND($G9>66,$G9<=80),750000,IF($G9>=81,900000,""))))))),"") | J9: =IF($H9=2,IF($G9="","",IF($G9<=20,100000,IF(AND($G9>=21,$G9<=35),150000,IF(AND($G9>=36,$G9<=50),200000,IF(AND($G9>=51,$G9<=65),250000,IF(AND($G9>66,$G9<=80),300000,IF($G9>=81,350000,""))))))),"") | K9: =IF($H9=5,IF($G9="","",IF($G9<=20,150000,IF(AND($G9>=21,$G9<=35),200000,IF(AND($G9>=36,$G9<=50),250000,IF(AND($G9>=51,$G9<=65),300000,IF(AND($G9>66,$G9<=80),350000,IF($G9>=81,400000,""))))))),"") | L9: =IF($H9=3,100000,"") | M9: =IF($H9=4,100000,"") | N9: =SUM(I9:M9) -> 0
H10: =IFERROR(VLOOKUP(C10,リスト!$A$2:$B$19,2,FALSE),"") | I10: =IF($H10=1,IF($G10="","",IF($G10<=20,150000,IF(AND($G10>=21,$G10<=35),300000,IF(AND($G10>=36,$G10<=50),450000,IF(AND($G10>=51,$G10<=65),600000,IF(AND($G10>66,$G10<=80),750000,IF($G10>=81,900000,""))))))),"") | J10: =IF($H10=2,IF($G10="","",IF($G10<=20,100000,IF(AND($G10>=21,$G10<=35),150000,IF(AND($G10>=36,$G10<=50),200000,IF(AND($G10>=51,$G10<=65),250000,IF(AND($G10>66,$G10<=80),300000,IF($G10>=81,350000,""))))))),"") | K10: =IF($H10=5,IF($G10="","",IF($G10<=20,150000,IF(AND($G10>=21,$G10<=35),200000,IF(AND($G10>=36,$G10<=50),250000,IF(AND($G10>=51,$G10<=65),300000,IF(AND($G10>66,$G10<=80),350000,IF($G10>=81,400000,""))))))),"") | L10: =IF($H10=3,100000,"") | M10: =IF($H10=4,100000,"") | N10: =SUM(I10:M10) -> 0
H11: =IFERROR(VLOOKUP(C11,リスト!$A$2:$B$19,2,FALSE),"") | I11: =IF($H11=1,IF($G11="","",IF($G11<=20,150000,IF(AND($G11>=21,$G11<=35),300000,IF(AND($G11>=36,$G11<=50),450000,IF(AND($G11>=51,$G11<=65),600000,IF(AND($G11>66,$G11<=80),750000,IF($G11>=81,900000,""))))))),"") | J11: =IF($H11=2,IF($G11="","",IF($G11<=20,100000,IF(AND($G11>=21,$G11<=35),150000,IF(AND($G11>=36,$G11<=50),200000,IF(AND($G11>=51,$G11<=65),250000,IF(AND($G11>66,$G11<=80),300000,IF($G11>=81,350000,""))))))),"") | K11: =IF($H11=5,IF($G11="","",IF($G11<=20,150000,IF(AND($G11>=21,$G11<=35),200000,IF(AND($G11>=36,$G11<=50),250000,IF(AND($G11>=51,$G11<=65),300000,IF(AND($G11>66,$G11<=80),350000,IF($G11>=81,400000,""))))))),"") | L11: =IF($H11=3,100000,"") | M11: =IF($H11=4,100000,"") | N11: =SUM(I11:M11) -> 0
H12: =IFERROR(VLOOKUP(C12,リスト!$A$2:$B$19,2,FALSE),"") | I12: =IF($H12=1,IF($G12="","",IF($G12<=20,150000,IF(AND($G12>=21,$G12<=35),300000,IF(AND($G12>=36,$G12<=50),450000,IF(AND($G12>=51,$G12<=65),600000,IF(AND($G12>66,$G12<=80),750000,IF($G12>=81,900000,""))))))),"") | J12: =IF($H12=2,IF($G12="","",IF($G12<=20,100000,IF(AND($G12>=21,$G12<=35),150000,IF(AND($G12>=36,$G12<=50),200000,IF(AND($G12>=51,$G12<=65),250000,IF(AND($G12>66,$G12<=80),300000,IF($G12>=81,350000,""))))))),"") | K12: =IF($H12=5,IF($G12="","",IF($G12<=20,150000,IF(AND($G12>=21,$G12<=35),200000,IF(AND($G12>=36,$G12<=50),250000,IF(AND($G12>=51,$G12<=65),300000,IF(AND($G12>66,$G12<=80),350000,IF($G12>=81,400000,""))))))),"") | L12: =IF($H12=3,100000,"") | M12: =IF($H12=4,100000,"") | N12: =SUM(I12:M12) -> 0
H13: =IFERROR(VLOOKUP(C13,リスト!$A$2:$B$19,2,FALSE),"") | I13: =IF($H13=1,IF($G13="","",IF($G13<=20,150000,IF(AND($G13>=21,$G13<=35),300000,IF(AND($G13>=36,$G13<=50),450000,IF(AND($G13>=51,$G13<=65),600000,IF(AND($G13>66,$G13<=80),750000,IF($G13>=81,900000,""))))))),"") | J13: =IF($H13=2,IF($G13="","",IF($G13<=20,100000,IF(AND($G13>=21,$G13<=35),150000,IF(AND($G13>=36,$G13<=50),200000,IF(AND($G13>=51,$G13<=65),250000,IF(AND($G13>66,$G13<=80),300000,IF($G13>=81,350000,""))))))),"") | K13: =IF($H13=5,IF($G13="","",IF($G13<=20,150000,IF(AND($G13>=21,$G13<=35),200000,IF(AND($G13>=36,$G13<=50),250000,IF(AND($G13>=51,$G13<=65),300000,IF(AND($G13>66,$G13<=80),350000,IF($G13>=81,400000,""))))))),"") | L13: =IF($H13=3,100000,"") | M13: =IF($H13=4,100000,"") | N13: =SUM(I13:M13) -> 0
H14: =IFERROR(VLOOKUP(C14,リスト!$A$2:$B$19,2,FALSE),"") | I14: =IF($H14=1,IF($G14="","",IF($G14<=20,150000,IF(AND($G14>=21,$G14<=35),300000,IF(AND($G14>=36,$G14<=50),450000,IF(AND($G14>=51,$G14<=65),600000,IF(AND($G14>66,$G14<=80),750000,IF($G14>=81,900000,""))))))),"") | J14: =IF($H14=2,IF($G14="","",IF($G14<=20,100000,IF(AND($G14>=21,$G14<=35),150000,IF(AND($G14>=36,$G14<=50),200000,IF(AND($G14>=51,$G14<=65),250000,IF(AND($G14>66,$G14<=80),300000,IF($G14>=81,350000,""))))))),"") | K14: =IF($H14=5,IF($G14="","",IF($G14<=20,150000,IF(AND($G14>=21,$G14<=35),200000,IF(AND($G14>=36,$G14<=50),250000,IF(AND($G14>=51,$G14<=65),300000,IF(AND($G14>66,$G14<=80),350000,IF($G14>=81,400000,""))))))),"") | L14: =IF($H14=3,100000,"") | M14: =IF($H14=4,100000,"") | N14: =SUM(I14:M14) -> 0
H15: =IFERROR(VLOOKUP(C15,リスト!$A$2:$B$19,2,FALSE),"") | I15: =IF($H15=1,IF($G15="","",IF($G15<=20,150000,IF(AND($G15>=21,$G15<=35),300000,IF(AND($G15>=36,$G15<=50),450000,IF(AND($G15>=51,$G15<=65),600000,IF(AND($G15>66,$G15<=80),750000,IF($G15>=81,900000,""))))))),"") | J15: =IF($H15=2,IF($G15="","",IF($G15<=20,100000,IF(AND($G15>=21,$G15<=35),150000,IF(AND($G15>=36,$G15<=50),200000,IF(AND($G15>=51,$G15<=65),250000,IF(AND($G15>66,$G15<=80),300000,IF($G15>=81,350000,""))))))),"") | K15: =IF($H15=5,IF($G15="","",IF($G15<=20,150000,IF(AND($G15>=21,$G15<=35),200000,IF(AND($G15>=36,$G15<=50),250000,IF(AND($G15>=51,$G15<=65),300000,IF(AND($G15>66,$G15<=80),350000,IF($G15>=81,400000,""))))))),"") | L15: =IF($H15=3,100000,"") | M15: =IF($H15=4,100000,"") | N15: =SUM(I15:M15) -> 0
B16: ※色付きセルの箇所のみ入力してください。自動計算するようになっています。 | K16: 支援金請求額（法人合計） | N16: =SUM(N7:N15) -> 0
B17: ※申請者（法人）名は、様式第1号の法人名と一致させてください。
B18: ※介護区分の事業所は、介護保険事業者番号を1事業所とみなす。
B19: ※介護区分２の定員とは、小規模多機能型居宅介護及び看護小規模多機能型居宅介護は登録定員とし、その他は利用定員とする。
B20: ※障害区分２における多機能事業所の定員は、両方のサービスを合わせた定員とする。
B21: ※障害区分３における同一事業所で複数のサービスを提供している場合は、1事業所とみなす。
B22: ※交付申請額（法人合計）は、様式第1号の交付申請額・請求額と一致します。
B23: ※介護と障害を実施している法人は、介護と障害に分けて様式第2号を作成してください。この場合は、介護分と障害分の合計額と様式
B24: 第1号の交付申請額・請求額と一致します。
B25: ※事業所等名称は、正しく記載してください。
B26: ※事業所番号は、申請を行う事業所等の介護保険事業番号又は、障害福祉サービス等事業所番号を10桁で正確に記載してください。なお、
B27: 養護老人ホーム、軽費老人ホーム、有料老人ホーム、サービス付き高齢者向け住宅については、便宜上、「9999999999」と記載してく
B28: ださい。
... B38: ⑤ 支援金請求額（法人合計）は、様式第1号の交付申請額・請求額と一致します。

Sheet 様式第2号記入例
B1: 様式第2号（第５条関係） | L1: 記入例
C2: 福祉施設等内訳表 | E2: 介護・高齢
I3: 法人名 | J3: ぼうじぃ株式会社
B5: NO | C5: 施設等種別 | D5: 福祉施設等の名称 | E5: 所在地 | G5: 定員 | H5: 区分 | N5: 支援金 請求額
I6: 入所 （区分1） | J6: 通所 （区分2） | K6: その他 （区分5） | L6: 複合 （区分3） | M6: 訪問 （区分4）
B7: 1 | C7: 介護老人福祉施設 | D7: 太子介護老人福祉施設 | E7: 太子町鵤280番地1 | G7: 25 | H7: =IFERROR(VLOOKUP(C7,リスト!$A$2:$B$19,2,FALSE),"") -> 1 | I7: =IF($H7=1,IF($G7="","",IF($G7<=20,150000,IF(AND($G7>=21,$G7<=35),300000,IF(AND($G7>=36,$G7<=50),450000,IF(AND($G7>=51,$G7<=65),600000,IF(AND($G7>66,$G7<=80),750000,IF($G7>=81,900000,""))))))),"") -> 300000 | J7: =IF($H7=2,IF($G7="","",IF($G7<=20,100000,IF(AND($G7>=21,$G7<=35),150000,IF(AND($G7>=36,$G7<=50),200000,IF(AND($G7>=51,$G7<=65),250000,IF(AND($G7>66,$G7<=80),300000,IF($G7>=81,350000,""))))))),"") | K7: =IF($H7=5,IF($G7="","",IF($G7<=20,150000,IF(AND($G7>=21,$G7<=35),200000,IF(AND($G7>=36,$G7<=50),250000,IF(AND($G7>=51,$G7<=65),300000,IF(AND($G7>66,$G7<=80),350000,IF($G7>=81,400000,""))))))),"") | L7: =IF($H7=3,100000,"") | M7: =IF($H7=4,100000,"") | N7: =SUM(I7:M7) -> 300000
B8: 2 | C8: 通所介護 | D8: 太子デイサービスセンター | E8: 太子町鵤280番地1 | G8: 35 | H8: =IFERROR(VLOOKUP(C8,リスト!$A$2:$B$19,2,FALSE),"") -> 2 | I8: =IF($H8=1,IF($G8="","",IF($G8<=20,150000,IF(AND($G8>=21,$G8<=35),300000,IF(AND($G8>=36,$G8<=50),450000,IF(AND($G8>=51,$G8<=65),600000,IF(AND($G8>66,$G8<=80),750000,IF($G8>=81,900000,""))))))),"") | J8: =IF($H8=2,IF($G8="","",IF($G8<=20,100000,IF(AND($G8>=21,$G8<=35),150000,IF(AND($G8>=36,$G8<=50),200000,IF(AND($G8>=51,$G8<=65),250000,IF(AND($G8>66,$G8<=80),300000,IF($G8>=81,350000,""))))))),"") -> 150000 | K8: =IF($H8=5,IF($G8="","",IF($G8<=20,150000,IF(AND($G8>=21,$G8<=35),200000,IF(AND($G8>=36,$G8<=50),250000,IF(AND($G8>=51,$G8<=65),300000,IF(AND($G8>66,$G8<=80),350000,IF($G8>=81,400000,""))))))),"") | L8: =IF($H8=3,100000,"") | M8: =IF($H8=4,100000,"") | N8: =SUM(I8:M8) -> 150000
B9: 3 | C9: 小規模多機能型居宅介護 | D9: 太子小規模多機能 | E9: 太子町鵤280番地1 | H9: =IFERROR(VLOOKUP(C9,リスト!$A$2:$B$19,2,FALSE),"") -> 3 | I9: =IF($H9=1,IF($G9="","",IF($G9<=20,150000,IF(AND($G9>=21,$G9<=35),300000,IF(AND($G9>=36,$G9<=50),450000,IF(AND($G9>=51,$G9<=65),600000,IF(AND($G9>66,$G9<=80),750000,IF($G9>=81,900000,""))))))),"") | J9: =IF($H9=2,IF($G9="","",IF($G9<=20,100000,IF(AND($G9>=21,$G9<=35),150000,IF(AND($G9>=36,$G9<=50),200000,IF(AND($G9>=51,$G9<=65),250000,IF(AND($G9>66,$G9<=80),300000,IF($G9>=81,350000,""))))))),"") | K9: =IF($H9=5,IF($G9="","",IF($G9<=20,150000,IF(AND($G9>=21,$G9<=35),200000,IF(AND($G9>=36,$G9<=50),250000,IF(AND($G9>=51,$G9<=65),300000,IF(AND($G9>66,$G9<=80),350000,IF($G9>=81,400000,""))))))),"") | L9: =IF($H9=3,100000,"") -> 100000 | M9: =IF($H9=4,100000,"") | N9: =SUM(I9:M9) -> 100000
B10: 4 | C10: 訪問介護 | D10: 太子介護センター | E10: 太子町鵤280番地1 | H10: =IFERROR(VLOOKUP(C10,リスト!$A$2:$B$19,2,FALSE),"") -> 4 | I10: =IF($H10=1,IF($G10="","",IF($G10<=20,150000,IF(AND($G10>=21,$G10<=35),300000,IF(AND($G10>=36,$G10<=50),450000,IF(AND($G10>=51,$G10<=65),600000,IF(AND($G10>66,$G10<=80),750000,IF($G10>=81,900000,""))))))),"") | J10: =IF($H10=2,IF($G10="","",IF($G10<=20,100000,IF(AND($G10>=21,$G10<=35),150000,IF(AND($G10>=36,$G10<=50),200000,IF(AND($G10>=51,$G10<=65),250000,IF(AND($G10>66,$G10<=80),300000,IF($G10>=81,350000,""))))))),"") | K10: =IF($H10=5,IF($G10="","",IF($G10<=20,150000,IF(AND($G10>=21,$G10<=35),200000,IF(AND($G10>=36,$G10<=50),250000,IF(AND($G10>=51,$G10<=65),300000,IF(AND($G10>66,$G10<=80),350000,IF($G10>=81,400000,""))))))),"") | L10: =IF($H10=3,100000,"") | M10: =IF($H10=4,100000,"") -> 100000 | N10: =SUM(I10:M10) -> 100000
B11: 5 | C11: 有料老人ホーム | D11: 太子有料老人ホーム | E11: 太子町鵤280番地1 | G11: 70 | H11: =IFERROR(VLOOKUP(C11,リスト!$A$2:$B$19,2,FALSE),"") -> 5 | I11: =IF($H11=1,IF($G11="","",IF($G11<=20,150000,IF(AND($G11>=21,$G11<=35),300000,IF(AND($G11>=36,$G11<=50),450000,IF(AND($G11>=51,$G11<=65),600000,IF(AND($G11>66,$G11<=80),750000,IF($G11>=81,900000,""))))))),"") | J11: =IF($H11=2,IF($G11="","",IF($G11<=20,100000,IF(AND($G11>=21,$G11<=35),150000,IF(AND($G11>=36,$G11<=50),200000,IF(AND($G11>=51,$G11<=65),250000,IF(AND($G11>66,$G11<=80),300000,IF($G11>=81,350000,""))))))),"") | K11: =IF($H11=5,IF($G11="","",IF($G11<=20,150000,IF(AND($G11>=21,$G11<=35),200000,IF(AND($G11>=36,$G11<=50),250000,IF(AND($G11>=51,$G11<=65),300000,IF(AND($G11>66,$G11<=80),350000,IF($G11>=81,400000,""))))))),"") -> 350000 | L11: =IF($H11=3,100000,"") | M11: =IF($H11=4,100000,"") | N11: =SUM(I11:M11) -> 350000
H12: =IFERROR(VLOOKUP(C12,リスト!$A$2:$B$19,2,FALSE),"") | I12: =IF($H12=1,IF($G12="","",IF($G12<=20,150000,IF(AND($G12>=21,$G12<=35),300000,IF(AND($G12>=36,$G12<=50),450000,IF(AND($G12>=51,$G12<=65),600000,IF(AND($G12>66,$G12<=80),750000,IF($G12>=81,900000,""))))))),"") | J12: =IF($H12=2,IF($G12="","",IF($G12<=20,100000,IF(AND($G12>=21,$G12<=35),150000,IF(AND($G12>=36,$G12<=50),200000,IF(AND($G12>=51,$G12<=65),250000,IF(AND($G12>66,$G12<=80),300000,IF($G12>=81,350000,""))))))),"") | K12: =IF($H12=5,IF($G12="","",IF($G12<=20,150000,IF(AND($G12>=21,$G12<=35),200000,IF(AND($G12>=36,$G12<=50),250000,IF(AND($G12>=51,$G12<=65),300000,IF(AND($G12>66,$G12<=80),350000,IF($G12>=81,400000,""))))))),"") | L12: =IF($H12=3,100000,"") | M12: =IF($H12=4,100000,"") | N12: =SUM(I12:M12) -> 0
H13: =IFERROR(VLOOKUP(C13,リスト!$A$2:$B$19,2,FALSE),"") | I13: =IF($H13=1,IF($G13="","",IF($G13<=20,150000,IF(AND($G13>=21,$G13<=35),300000,IF(AND($G13>=36,$G13<=50),450000,IF(AND($G13>=51,$G13<=65),600000,IF(AND($G13>66,$G13<=80),750000,IF($G13>=81,900000,""))))))),"") | J13: =IF($H13=2,IF($G13="","",IF($G13<=20,100000,IF(AND($G13>=21,$G13<=35),150000,IF(AND($G13>=36,$G13<=50),200000,IF(AND($G13>=51,$G13<=65),250000,IF(AND($G13>66,$G13<=80),300000,IF($G13>=81,350000,""))))))),"") | K13: =IF($H13=5,IF($G13="","",IF($G13<=20,150000,IF(AND($G13>=21,$G13<=35),200000,IF(AND($G13>=36,$G13<=50),250000,IF(AND($G13>=51,$G13<=65),300000,IF(AND($G13>66,$G13<=80),350000,IF($G13>=81,400000,""))))))),"") | L13: =IF($H13=3,100000,"") | M13: =IF($H13=4,100000,"") | N13: =SUM(I13:M13) -> 0
H14: =IFERROR(VLOOKUP(C14,リスト!$A$2:$B$19,2,FALSE),"") | I14: =IF($H14=1,IF($G14="","",IF($G14<=20,150000,IF(AND($G14>=21,$G14<=35),300000,IF(AND($G14>=36,$G14<=50),450000,IF(AND($G14>=51,$G14<=65),600000,IF(AND($G14>66,$G14<=80),750000,IF($G14>=81,900000,""))))))),"") | J14: =IF($H14=2,IF($G14="","",IF($G14<=20,100000,IF(AND($G14>=21,$G14<=35),150000,IF(AND($G14>=36,$G14<=50),200000,IF(AND($G14>=51,$G14<=65),250000,IF(AND($G14>66,$G14<=80),300000,IF($G14>=81,350000,""))))))),"") | K14: =IF($H14=5,IF($G14="","",IF($G14<=20,150000,IF(AND($G14>=21,$G14<=35),200000,IF(AND($G14>=36,$G14<=50),250000,IF(AND($G14>=51,$G14<=65),300000,IF(AND($G14>66,$G14<=80),350000,IF($G14>=81,400000,""))))))),"") | L14: =IF($H14=3,100000,"") | M14: =IF($H14=4,100000,"") | N14: =SUM(I14:M14) -> 0
H15: =IFERROR(VLOOKUP(C15,リスト!$A$2:$B$19,2,FALSE),"") | I15: =IF($H15=1,IF($G15="","",IF($G15<=20,150000,IF(AND($G15>=21,$G15<=35),300000,IF(AND($G15>=36,$G15<=50),450000,IF(AND($G15>=51,$G15<=65),600000,IF(AND($G15>66,$G15<=80),750000,IF($G15>=81,900000,""))))))),"") | J15: =IF($H15=2,IF($G15="","",IF($G15<=20,100000,IF(AND($G15>=21,$G15<=35),150000,IF(AND($G15>=36,$G15<=50),200000,IF(AND($G15>=51,$G15<=65),250000,IF(AND($G15>66,$G15<=80),300000,IF($G15>=81,350000,""))))))),"") | K15: =IF($H15=5,IF($G15="","",IF($G15<=20,150000,IF(AND($G15>=21,$G15<=35),200000,IF(AND($G15>=36,$G15<=50),250000,IF(AND($G15>=51,$G15<=65),300000,IF(AND($G15>66,$G15<=80),350000,IF($G15>=81,400000,""))))))),"") | L15: =IF($H15=3,100000,"") | M15: =IF($H15=4,100000,"") | N15: =SUM(I15:M15) -> 0
B16: ※色付きセルの箇所のみ入力してください。自動計算するようになっています。 | K16: 支援金請求額（法人合計） | N16: =SUM(N7:N15) -> 1000000
B18: ① 申請者（法人）名は、自動入力です。
B19: ② 「施設等種別」は、プルダウンリストから選択してください。
B20: ③ 「定員」については、小規模多機能型居宅介護及び看護小規模多機能型居宅介護は登録定員とし、その他は利用定員とします。
B21: ④ 定員を確認できる資料として、運営規定の写しを添付してください。（複合、訪問は除く）
B22: ⑤ 支援金請求額（法人合計）は、様式第1号の交付申請額・請求額と一致します。

Sheet 加筆・修正しないでください→

Sheet リスト
A1: 施設等種別 | B1: 区分 | D1: 1 | E1: 20以下 | F1: 150000
A2: 介護老人福祉施設 | B2: 1 | D2: 1 | E2: 21～35 | F2: 300000
A3: 地域密着型介護老人福祉施設 | B3: 1 | D3: 1 | E3: 36～50 | F3: 450000
A4: 地域密着型認知症対応型共同生活介護 | B4: 1 | D4: 1 | E4: 51～65 | F4: 600000
A5: 短期入所生活介護 | B5: 1 | D5: 1 | E5: 66～80 | F5: 750000
A6: 地域密着型介護老人福祉施設入所者生活介護 | B6: 1 | D6: 1 | E6: 81以上 | F6: 900000
A7: 通所介護 | B7: 2 | D7: 2 | E7: 20以下 | F7: 100000
A8: 地域密着型通所介護 | B8: 2 | D8: 2 | E8: 21～35 | F8: 150000
A9: 地域密着型認知症対応型通所介護 | B9: 2 | D9: 2 | E9: 36～50 | F9: 200000
A10: 通所リハビリテーション | B10: 2 | D10: 2 | E10: 51～65 | F10: 250000
A11: 小規模多機能型居宅介護 | B11: 3 | D11: 2 | E11: 66～80 | F11: 300000
A12: 看護小規模多機能型居宅介護 | B12: 3 | D12: 2 | E12: 81以上 | F12: 350000
A13: 訪問介護 | B13: 4 | D13: 3 | F13: 100000
A14: 訪問看護 | B14: 4 | D14: 4 | F14: 100000
A15: 定期巡回・随時対応型訪問介護看護 | B15: 4 | D15: 5 | E15: 20以下 | F15: 150000
A16: 居宅介護支援 | B16: 4 | D16: 5 | E16: 21～35 | F16: 200000
A17: 福祉用具貸与・特定福祉用具販売 | B17: 4 | D17: 5 | E17: 36～50 | F17: 250000
A18: 有料老人ホーム | B18: 5 | D18: 5 | E18: 51～65 | F18: 300000
A19: サービス付き高齢者向け住宅 | B19: 5 | D19: 5 | E19: 66～80 | F19: 350000
D20: 5 | E20: 81以上 | F20: 400000
